BEGIN:VCALENDAR
VERSION:2.0
PRODID:-//primiero.events//29^ Rassegna Primiero Teatro: "L'ostaria dela Speranza"//IT
CALSCALE:GREGORIAN
METHOD:PUBLISH
X-WR-TIMEZONE:UTC
X-WR-CALNAME:29^ Rassegna Primiero Teatro: "L'ostaria dela Speranza"
X-WR-CALDESC:29^ Rassegna Primiero Teatro: "L'ostaria dela Speranza"
X-WR-TIMEZONE:Europe/Rome
BEGIN:VEVENT
DTSTART;VALUE=DATE:
DTEND;VALUE=DATE:
DTSTAMP:20260420T120732Z
UID:@7e0c875dda417cfc99e9d605746cbda7@primiero.events
ORGANIZER;CN=ApT San Martino di Castrozza, Primiero e Vanoi:MAILTO:webmaster@primiero.events
SUMMARY:29^ Rassegna Primiero Teatro: "L'ostaria dela Speranza"
LOCATION:Teatro dell'Oratorio di Pieve, Fiera di Primiero
DESCRIPTION:La Compagnia Teatrale &#34;El Feral&#34; presenta la 29^ Rassegna Primiero Teatro&#34;.  Spettacolo &#34;L&#039;ostaria dela Speranza&#34;: commedia in due atti di Camillo Vittici della Compagnia Teatrale &#34;El Feral&#34; di Primiero (TN).   Ingresso: €8,00 intero | €5,00 ridotto.
STATUS:CONFIRMED
END:VEVENT
END:VCALENDAR