BEGIN:VCALENDAR
VERSION:2.0
PRODID:-//primiero.events//Campionato Nazionale Outdoor 3D di Tiro con l'Arco//IT
CALSCALE:GREGORIAN
METHOD:PUBLISH
X-WR-TIMEZONE:UTC
X-WR-CALNAME:Campionato Nazionale Outdoor 3D di Tiro con l'Arco
X-WR-CALDESC:Campionato Nazionale Outdoor 3D di Tiro con l'Arco
X-WR-TIMEZONE:Europe/Rome
BEGIN:VEVENT
DTSTART;VALUE=DATE:
DTEND;VALUE=DATE:
DTSTAMP:20260420T065427Z
UID:@8cfae6f2679a01788fd10e7f943bb297@primiero.events
ORGANIZER;CN=ApT San Martino di Castrozza, Primiero e Vanoi:MAILTO:webmaster@primiero.events
SUMMARY:Campionato Nazionale Outdoor 3D di Tiro con l'Arco
LOCATION:San Martino di Castrozza
DESCRIPTION:Il Campionato Nazionale 3D di tiro con l&#039;arco outdoor impegna gli arcieri in percorsi naturali, sfidando pendenze, distanze e vento. Per maggiori info: cremona&#64;csain.it
STATUS:CONFIRMED
END:VEVENT
END:VCALENDAR