BEGIN:VCALENDAR
VERSION:2.0
PRODID:-//primiero.events//Vanoi Buskers Fest//IT
CALSCALE:GREGORIAN
METHOD:PUBLISH
X-WR-TIMEZONE:UTC
X-WR-CALNAME:Vanoi Buskers Fest
X-WR-CALDESC:Vanoi Buskers Fest
X-WR-TIMEZONE:Europe/Rome
BEGIN:VEVENT
DTSTART;VALUE=DATE:20260711
DTEND;VALUE=DATE:20260711
DTSTAMP:20260421T193642Z
UID:@159cb3145731b42af9b0f32ec1791604@primiero.events
ORGANIZER;CN=ApT San Martino di Castrozza, Primiero e Vanoi:MAILTO:webmaster@primiero.events
SUMMARY:Vanoi Buskers Fest
LOCATION:Valle del Vanoi, Canal San Bovo
DESCRIPTION:
  LanciArte, contenitore di idee, di creatività e tecnica nell'universo del
  Circo Contemporaneo. Dalle 15.00: laboratorio libero e
  permanente di giocoleria ed equilibrismo per grandi e piccini. 
  Ore 17.00: spettacolo di giocoleria, equilibrismo e tanta energia!
  Ore 18.00: "Psycho Chicken" con il clown Demenzio. 
   Ore 19.00: "Pink Punk", un programma delle Donne per le Donne!..
  e tantissimo circo! A seguire musica live con Positive Vibration!

STATUS:CONFIRMED
END:VEVENT
END:VCALENDAR