BEGIN:VCALENDAR
VERSION:2.0
PRODID:-//primiero.events//29° Palio de la Sloiza//IT
CALSCALE:GREGORIAN
METHOD:PUBLISH
X-WR-TIMEZONE:UTC
X-WR-CALNAME:29° Palio de la Sloiza
X-WR-CALDESC:29° Palio de la Sloiza
X-WR-TIMEZONE:Europe/Rome
BEGIN:VEVENT
DTSTART;VALUE=DATE:20260821
DTEND;VALUE=DATE:20260821
DTSTAMP:20260420T231524Z
UID:@7fca36d77bf6fdfb416ac6582c43e7b9@primiero.events
ORGANIZER;CN=ApT San Martino di Castrozza, Primiero e Vanoi:MAILTO:webmaster@primiero.events
SUMMARY:29° Palio de la Sloiza
LOCATION:Piazza San Marco, Transacqua
DESCRIPTION:
  Tradizionale sagra di Transacqua a cura del Comitato Iniziative Transacqua.
  Dalle ore 19.00, apertura stand gastronomico e serata musicale.

STATUS:CONFIRMED
END:VEVENT
END:VCALENDAR