BEGIN:VCALENDAR
VERSION:2.0
PRODID:-//primiero.events//SazInTown//IT
CALSCALE:GREGORIAN
METHOD:PUBLISH
X-WR-TIMEZONE:UTC
X-WR-CALNAME:SazInTown
X-WR-CALDESC:SazInTown
X-WR-TIMEZONE:Europe/Rome
BEGIN:VEVENT
DTSTART;VALUE=DATE:
DTEND;VALUE=DATE:
DTSTAMP:20260421T134825Z
UID:@386618ac9a7bf64c481d7abda2705b85@primiero.events
ORGANIZER;CN=ApT San Martino di Castrozza, Primiero e Vanoi:MAILTO:webmaster@primiero.events
SUMMARY:SazInTown
LOCATION:Centro Storico, Tonadico
DESCRIPTION:
  L'Associazione Aguaz è finalmente felice di riproporre il mitico "SaZ in
  Town" nel rustico borgo di Tonadico. SazInTown è un festival musicale
  che si svolge in un piccolo borgo fra le Dolomiti trentine, nato dalla
  componente intima del SotAlaZopa è ora giunto alla terza edizione da
  indipendente.﻿ Due giorni di spettacoli teatrali, free camping, street food,
  laboratori per bambini, ma soprattutto musica dal vivo.

STATUS:CONFIRMED
END:VEVENT
END:VCALENDAR