BEGIN:VCALENDAR
VERSION:2.0
PRODID:-//primiero.events//Carta Natura: Boschi e Paesaggi Naturali con Francisco Castro//IT
CALSCALE:GREGORIAN
METHOD:PUBLISH
X-WR-TIMEZONE:UTC
X-WR-CALNAME:Carta Natura: Boschi e Paesaggi Naturali con Francisco Castro
X-WR-CALDESC:Carta Natura: Boschi e Paesaggi Naturali con Francisco Castro
X-WR-TIMEZONE:Europe/Rome
BEGIN:VEVENT
DTSTART;VALUE=DATE:
DTEND;VALUE=DATE:
DTSTAMP:20260426T061356Z
UID:@12d37cf142f59bd551012df0f4a96c48@primiero.events
ORGANIZER;CN=ApT San Martino di Castrozza, Primiero e Vanoi:MAILTO:webmaster@primiero.events
SUMMARY:Carta Natura: Boschi e Paesaggi Naturali con Francisco Castro
LOCATION:Val Canali, Tonadico
DESCRIPTION:
  CARTANATURA 2026: Boschi e Paesaggi Naturali con Francisco Castro
  (accompagnato da Silvia De Bastiani). Workshop en plein air con
  soggiorno in Val Canali. In questo corso esploreremo in particolare il tema
  del bosco e del paesaggio naturale che farà da scenario alla Val Canali,
  nelle Dolomiti trentine. Info e prenotazioni:
  https://primieroiniziative.it/dettaglio-vacanza/workshop-boschi-e-paesaggi-con@1@1@1/

STATUS:CONFIRMED
END:VEVENT
END:VCALENDAR