BEGIN:VCALENDAR
VERSION:2.0
PRODID:-//primiero.events//San Nicolò a Transacqua//IT
CALSCALE:GREGORIAN
METHOD:PUBLISH
X-WR-TIMEZONE:UTC
X-WR-CALNAME:San Nicolò a Transacqua
X-WR-CALDESC:San Nicolò a Transacqua
X-WR-TIMEZONE:Europe/Rome
BEGIN:VEVENT
DTSTART;VALUE=DATE:20261205
DTEND;VALUE=DATE:20261205
DTSTAMP:20260421T115014Z
UID:@1eea40fd53fde7e4d6118bfbb592f6d2@primiero.events
ORGANIZER;CN=ApT San Martino di Castrozza, Primiero e Vanoi:MAILTO:webmaster@primiero.events
SUMMARY:San Nicolò a Transacqua
LOCATION:Piazza della Chiesa, Transacqua
DESCRIPTION:
  San Nicolò arriva a Transacqua! Accensione dell'albero di
  Natale presso la piazza della Chiesa, poi passeggiata con le
  lanterne verso Ormanico dove troverete San Nicolò. Ricordatevi di portare
  il vostro campanellino. Castagne e dolci in compagnia per tutti.

STATUS:CONFIRMED
END:VEVENT
END:VCALENDAR