BEGIN:VCALENDAR
VERSION:2.0
PRODID:-//primiero.events//Babbo Natale a Transacqua//IT
CALSCALE:GREGORIAN
METHOD:PUBLISH
X-WR-TIMEZONE:UTC
X-WR-CALNAME:Babbo Natale a Transacqua
X-WR-CALDESC:Babbo Natale a Transacqua
X-WR-TIMEZONE:Europe/Rome
BEGIN:VEVENT
DTSTART;VALUE=DATE:20261224
DTEND;VALUE=DATE:20261224
DTSTAMP:20260421T114741Z
UID:@48f5ccd3175e6e1210e35485c1143487@primiero.events
ORGANIZER;CN=ApT San Martino di Castrozza, Primiero e Vanoi:MAILTO:webmaster@primiero.events
SUMMARY:Babbo Natale a Transacqua
LOCATION:Itinerante, Transacqua
DESCRIPTION:
  Babbo Natale passerà per le vie di Transacqua per salutare tutti i
  bambini e le loro famiglie. Aspettatelo con luci e campanellini, dopo
  le ore 17.30 passerà con la sua carrozza in compagnia degli
  elfi per augurarvi un buon Natale ricco di felicità!

STATUS:CONFIRMED
END:VEVENT
END:VCALENDAR