BEGIN:VCALENDAR
VERSION:2.0
PRODID:-//primiero.events//Incontri Musicali 2026//IT
CALSCALE:GREGORIAN
METHOD:PUBLISH
X-WR-TIMEZONE:UTC
X-WR-CALNAME:Incontri Musicali 2026
X-WR-CALDESC:Incontri Musicali 2026
X-WR-TIMEZONE:Europe/Rome
BEGIN:VEVENT
DTSTART;VALUE=DATE:20260504
DTEND;VALUE=DATE:20260504
DTSTAMP:20260425T021249Z
UID:@4692baf73d93188f7df023fef55cd6d1@primiero.events
ORGANIZER;CN=ApT San Martino di Castrozza, Primiero e Vanoi:MAILTO:webmaster@primiero.events
SUMMARY:Incontri Musicali 2026
LOCATION:Sala Concerti della Scuola Musicale di Primiero, Transacqua
DESCRIPTION:
  Pomeriggio musicale con gli allievi della Scuola Musicale di Primiero:
  Classe di Percussioni - M° Dimitri Fiorin.



  Transacqua, Sala Concerti della Scuola Musicale di Primiero, ore
  18.00

STATUS:CONFIRMED
END:VEVENT
END:VCALENDAR