BEGIN:VCALENDAR
VERSION:2.0
PRODID:-//primiero.events//Incontri Musicali 2026//IT
CALSCALE:GREGORIAN
METHOD:PUBLISH
X-WR-TIMEZONE:UTC
X-WR-CALNAME:Incontri Musicali 2026
X-WR-CALDESC:Incontri Musicali 2026
X-WR-TIMEZONE:Europe/Rome
BEGIN:VEVENT
DTSTART;VALUE=DATE:20260521
DTEND;VALUE=DATE:20260521
DTSTAMP:20260422T142743Z
UID:@743f6c7d70b4323e6b274cce1f0cf206@primiero.events
ORGANIZER;CN=ApT San Martino di Castrozza, Primiero e Vanoi:MAILTO:webmaster@primiero.events
SUMMARY:Incontri Musicali 2026
LOCATION:Sala Concerti della Scuola Musicale di Primiero, Transacqua
DESCRIPTION:Pomeriggio musicale con gli allievi della Scuola Musicale di Primiero: Classe di Avviamento alla Musica - M° Daniela Lucian. Sono invitati i bambini &#34;grandi&#34; delle scuole materne e di 1^ elementare.
STATUS:CONFIRMED
END:VEVENT
END:VCALENDAR