BEGIN:VCALENDAR
VERSION:2.0
PRODID:-//primiero.events//Incontri Musicali 2026//IT
CALSCALE:GREGORIAN
METHOD:PUBLISH
X-WR-TIMEZONE:UTC
X-WR-CALNAME:Incontri Musicali 2026
X-WR-CALDESC:Incontri Musicali 2026
X-WR-TIMEZONE:Europe/Rome
BEGIN:VEVENT
DTSTART;VALUE=DATE:20260605
DTEND;VALUE=DATE:20260605
DTSTAMP:20260423T013255Z
UID:@e3a715e712193af6b2014b86a317b329@primiero.events
ORGANIZER;CN=ApT San Martino di Castrozza, Primiero e Vanoi:MAILTO:webmaster@primiero.events
SUMMARY:Incontri Musicali 2026
LOCATION:Sala Concerti della Scuola Musicale di Primiero, Transacqua
DESCRIPTION:Pomeriggio musicale con gli allievi della Scuola Musicale di Primiero: Classi di Laboratori di Musica Moderna - M° Mario Bettega.
STATUS:CONFIRMED
END:VEVENT
END:VCALENDAR