BEGIN:VCALENDAR
VERSION:2.0
PRODID:-//primiero.events//Sagra del "Foc"//IT
CALSCALE:GREGORIAN
METHOD:PUBLISH
X-WR-TIMEZONE:UTC
X-WR-CALNAME:Sagra del "Foc"
X-WR-CALDESC:Sagra del "Foc"
X-WR-TIMEZONE:Europe/Rome
BEGIN:VEVENT
DTSTART;VALUE=DATE:20260710
DTEND;VALUE=DATE:20260710
DTSTAMP:20260425T172211Z
UID:@c1a0ae8ef32dc641c65295825f1ab0dd@primiero.events
ORGANIZER;CN=ApT San Martino di Castrozza, Primiero e Vanoi:MAILTO:webmaster@primiero.events
SUMMARY:Sagra del "Foc"
LOCATION:Centro Storico e Tendone di Via Fuganti, Tonadico
DESCRIPTION:Sagra del Foc, occasione di festa che si traduce in momenti di spettacolo, dal teatro alla musica, con alcuni intermezzi gastronomici. Dalle ore 16.30: Strade di Musica e Mani d&#039;artista, gli artigiani di Tonadico sono pronti a mostrarvi i loro saperi accompagnati da musica itinerante. Dalle ore 17.00 alle ore 20.00: Prismabanda Street Band con musica, coreografie e giocoleria. Dalle ore 19.00: cena tipica presso il Tendone di Via Fuganti seguita dalla musica dell&#039;Orchestra Romagnola.   
STATUS:CONFIRMED
END:VEVENT
END:VCALENDAR