BEGIN:VCALENDAR
VERSION:2.0
PRODID:-//primiero.events//Sagra del "Foc"//IT
CALSCALE:GREGORIAN
METHOD:PUBLISH
X-WR-TIMEZONE:UTC
X-WR-CALNAME:Sagra del "Foc"
X-WR-CALDESC:Sagra del "Foc"
X-WR-TIMEZONE:Europe/Rome
BEGIN:VEVENT
DTSTART;VALUE=DATE:20260711
DTEND;VALUE=DATE:20260711
DTSTAMP:20260425T172819Z
UID:@c4bc5de97da3535d4f5c1cb0f4d87d69@primiero.events
ORGANIZER;CN=ApT San Martino di Castrozza, Primiero e Vanoi:MAILTO:webmaster@primiero.events
SUMMARY:Sagra del "Foc"
LOCATION:Centro Storico e Tendone di Via Fuganti, Tonadico
DESCRIPTION:Sagra del Foc, occasione di festa che si traduce in momenti di spettacolo, dal teatro alla musica, con alcuni intermezzi gastronomici. Dalle ore 17.00: &#34;Le Baruffe Primierotte&#34;, liberamente tratto da opere varie di Goldoni, spettacolo itinerante, restituzione del Laboratorio Teatrale per Adulti. Dalle ore 19.00: cena tipica presso il Tendone di Via Fuganti. Ore 20.30: &#34;20 in poppa&#34;, spettacolo di cabaret di e con Sergio Sgrilli, uno dei volti storici di Zelig.
STATUS:CONFIRMED
END:VEVENT
END:VCALENDAR