BEGIN:VCALENDAR
VERSION:2.0
PRODID:-//primiero.events//Sagra del "Foc"//IT
CALSCALE:GREGORIAN
METHOD:PUBLISH
X-WR-TIMEZONE:UTC
X-WR-CALNAME:Sagra del "Foc"
X-WR-CALDESC:Sagra del "Foc"
X-WR-TIMEZONE:Europe/Rome
BEGIN:VEVENT
DTSTART;VALUE=DATE:20260712
DTEND;VALUE=DATE:20260712
DTSTAMP:20260425T172717Z
UID:@bc7609222ae928d44970cc95556f7003@primiero.events
ORGANIZER;CN=ApT San Martino di Castrozza, Primiero e Vanoi:MAILTO:webmaster@primiero.events
SUMMARY:Sagra del "Foc"
LOCATION:Teatro dell'Oratorio, Tonadico
DESCRIPTION:Sagra del Foc, occasione di festa che si traduce in momenti di spettacolo, dal teatro alla musica, con alcuni intermezzi gastronomici. Dalle ore 16.30: &#34;Inside Out&#34;, restituzione del Campus Teatrale per bambini e ragazzi.
STATUS:CONFIRMED
END:VEVENT
END:VCALENDAR