BEGIN:VCALENDAR
VERSION:2.0
PRODID:-//primiero.events//Biossido di cloro - CDS//IT
CALSCALE:GREGORIAN
METHOD:PUBLISH
X-WR-TIMEZONE:UTC
X-WR-CALNAME:Biossido di cloro - CDS
X-WR-CALDESC:Biossido di cloro - CDS
X-WR-TIMEZONE:Europe/Rome
BEGIN:VEVENT
DTSTART:20260424T20:30:00
DTEND:20260424T22:30:00
DTSTAMP:20260420T142916Z
UID:@bc280d4a0e1bfe42d7f7a1c4ba99ac3c@primiero.events
ORGANIZER;CN=Gruppo DONSENAMAN:MAILTO:webmaster@primiero.events
SUMMARY:Biossido di cloro - CDS
LOCATION:Studio olistico Serendipity, Via Roma 179 (a lato Caseificio), Mezzano
DESCRIPTION:
  Serata informativa sul composto chimico che si distingue per la sua efficacia
  nell'eliminare batteri, virus e alcuni tipi di parassiti che possono essere
  dannosi per la salute umana..


  Al termine dell'incontro birretta o tisana conviviale.


  


  MEZZANO - Centro olistico Serendipity in Via Roma (accanto al
  Caseificio di Primiero), ore 20.30


  Posti limitati, è richiesta la prenotazione: 347 3178594


  


  Ingresso: offerta libera e consapevole

STATUS:CONFIRMED
END:VEVENT
END:VCALENDAR