BEGIN:VCALENDAR
VERSION:2.0
PRODID:-//primiero.events//Libertà è partecipazione//IT
CALSCALE:GREGORIAN
METHOD:PUBLISH
X-WR-TIMEZONE:UTC
X-WR-CALNAME:Libertà è partecipazione
X-WR-CALDESC:Libertà è partecipazione
X-WR-TIMEZONE:Europe/Rome
BEGIN:VEVENT
DTSTART;VALUE=DATE:20260424
DTEND;VALUE=DATE:20260424
DTSTAMP:20260421T133357Z
UID:@add989d078efa26233f3fbf91ee31ce0@primiero.events
ORGANIZER;CN=ApT San Martino di Castrozza, Primiero e Vanoi:MAILTO:webmaster@primiero.events
SUMMARY:Libertà è partecipazione
LOCATION:Biblioteca Comunale, Canal San Bovo
DESCRIPTION:
STATUS:CONFIRMED
END:VEVENT
END:VCALENDAR