BEGIN:VCALENDAR
VERSION:2.0
PRODID:-//primiero.events//MAI Festival: Musica da Camera//IT
CALSCALE:GREGORIAN
METHOD:PUBLISH
X-WR-TIMEZONE:UTC
X-WR-CALNAME:MAI Festival: Musica da Camera
X-WR-CALDESC:MAI Festival: Musica da Camera
X-WR-TIMEZONE:Europe/Rome
BEGIN:VEVENT
DTSTART;VALUE=DATE:20260701
DTEND;VALUE=DATE:20260701
DTSTAMP:20260421T160249Z
UID:@c98258309b6754ec89d8418e3f109469@primiero.events
ORGANIZER;CN=ApT San Martino di Castrozza, Primiero e Vanoi:MAILTO:webmaster@primiero.events
SUMMARY:MAI Festival: Musica da Camera
LOCATION:Chiesa, Imer
DESCRIPTION:Tornano da tutto il mondo decine di musicisti, docenti e studenti della MAI Music Academy di New York!﻿ Musica da Camera: concerto con i docenti del Trentino Music Festival.
STATUS:CONFIRMED
END:VEVENT
END:VCALENDAR