BEGIN:VCALENDAR
VERSION:2.0
PRODID:-//primiero.events//MAI Festival: Concerti d'Orchestra//IT
CALSCALE:GREGORIAN
METHOD:PUBLISH
X-WR-TIMEZONE:UTC
X-WR-CALNAME:MAI Festival: Concerti d'Orchestra
X-WR-CALDESC:MAI Festival: Concerti d'Orchestra
X-WR-TIMEZONE:Europe/Rome
BEGIN:VEVENT
DTSTART;VALUE=DATE:20260704
DTEND;VALUE=DATE:20260704
DTSTAMP:20260425T170824Z
UID:@2312f6ecaa9a4fe6ca22272aa3f1e733@primiero.events
ORGANIZER;CN=ApT San Martino di Castrozza, Primiero e Vanoi:MAILTO:webmaster@primiero.events
SUMMARY:MAI Festival: Concerti d'Orchestra
LOCATION:Chiesa di San Giorgio, Mezzano
DESCRIPTION:Tornano da tutto il mondo decine di musicisti, docenti e studenti della MAI Music Academy di New York!﻿﻿ Concerto della Trentino Music Festival Orchestra.
STATUS:CONFIRMED
END:VEVENT
END:VCALENDAR