BEGIN:VCALENDAR
VERSION:2.0
PRODID:-//primiero.events//Trentino Girofolk//IT
CALSCALE:GREGORIAN
METHOD:PUBLISH
X-WR-TIMEZONE:UTC
X-WR-CALNAME:Trentino Girofolk
X-WR-CALDESC:Trentino Girofolk
X-WR-TIMEZONE:Europe/Rome
BEGIN:VEVENT
DTSTART:T17:00:00
DTEND:T19:00:00
DTSTAMP:20260422T110849Z
UID:@21136c8e172a0bb548e9e03c0bbdaa68@primiero.events
ORGANIZER;CN=Comunità di Primiero:MAILTO:webmaster@primiero.events
SUMMARY:Trentino Girofolk
LOCATION:Tonadico, TN
DESCRIPTION:
STATUS:CONFIRMED
END:VEVENT
END:VCALENDAR