BEGIN:VCALENDAR
VERSION:2.0
PRODID:-//primiero.events//MAI Festival: Musical "Jesus Christ Superstar"//IT
CALSCALE:GREGORIAN
METHOD:PUBLISH
X-WR-TIMEZONE:UTC
X-WR-CALNAME:MAI Festival: Musical "Jesus Christ Superstar"
X-WR-CALDESC:MAI Festival: Musical "Jesus Christ Superstar"
X-WR-TIMEZONE:Europe/Rome
BEGIN:VEVENT
DTSTART;VALUE=DATE:20260707
DTEND;VALUE=DATE:20260707
DTSTAMP:20260425T172523Z
UID:@7e091497433758cd053b4aa36d1f6d15@primiero.events
ORGANIZER;CN=ApT San Martino di Castrozza, Primiero e Vanoi:MAILTO:webmaster@primiero.events
SUMMARY:MAI Festival: Musical "Jesus Christ Superstar"
LOCATION:Auditorium Intercomunale, Fiera di Primiero
DESCRIPTION:Tornano da tutto il mondo decine di musicisti, docenti e studenti della MAI Music Academy di New York!﻿ Musical &#34;Jesus Christ Superstar&#34;﻿ di Andrew Lloyd Webber.
STATUS:CONFIRMED
END:VEVENT
END:VCALENDAR