BEGIN:VCALENDAR
VERSION:2.0
PRODID:-//primiero.events//MAI Festival: Musical "Cabaret"//IT
CALSCALE:GREGORIAN
METHOD:PUBLISH
X-WR-TIMEZONE:UTC
X-WR-CALNAME:MAI Festival: Musical "Cabaret"
X-WR-CALDESC:MAI Festival: Musical "Cabaret"
X-WR-TIMEZONE:Europe/Rome
BEGIN:VEVENT
DTSTART;VALUE=DATE:20260708
DTEND;VALUE=DATE:20260708
DTSTAMP:20260425T172845Z
UID:@a25c1f04dac4fe1e166d8abbbe6d9ca2@primiero.events
ORGANIZER;CN=ApT San Martino di Castrozza, Primiero e Vanoi:MAILTO:webmaster@primiero.events
SUMMARY:MAI Festival: Musical "Cabaret"
LOCATION:Auditorium Intercomunale, Fiera di Primiero
DESCRIPTION:Tornano da tutto il mondo decine di musicisti, docenti e studenti della MAI Music Academy di New York!﻿ Musical &#34;Cabaret&#34;﻿ di John Kander.
STATUS:CONFIRMED
END:VEVENT
END:VCALENDAR