BEGIN:VCALENDAR
VERSION:2.0
PRODID:-//primiero.events//Trentino Girofolk//IT
CALSCALE:GREGORIAN
METHOD:PUBLISH
X-WR-TIMEZONE:UTC
X-WR-CALNAME:Trentino Girofolk
X-WR-CALDESC:Trentino Girofolk
X-WR-TIMEZONE:Europe/Rome
BEGIN:VEVENT
DTSTART:T18:00:00
DTEND:T18:00:00
DTSTAMP:20260422T110717Z
UID:@7edd8a79f249729b8bc29de376d3bfa4@primiero.events
ORGANIZER;CN=Comunità di Primiero:MAILTO:webmaster@primiero.events
SUMMARY:Trentino Girofolk
LOCATION:Sagron Mis, TN
DESCRIPTION:
STATUS:CONFIRMED
END:VEVENT
END:VCALENDAR