BEGIN:VCALENDAR
VERSION:2.0
PRODID:-//primiero.events//Breast Unit on Tour//IT
CALSCALE:GREGORIAN
METHOD:PUBLISH
X-WR-TIMEZONE:UTC
X-WR-CALNAME:Breast Unit on Tour
X-WR-CALDESC:Breast Unit on Tour
X-WR-TIMEZONE:Europe/Rome
BEGIN:VEVENT
DTSTART;VALUE=DATE:20260505
DTEND;VALUE=DATE:20260505
DTSTAMP:20260422T160909Z
UID:@7c9a3cac6c19ce22e38fbac6ea1d517d@primiero.events
ORGANIZER;CN=ApT San Martino di Castrozza, Primiero e Vanoi:MAILTO:webmaster@primiero.events
SUMMARY:Breast Unit on Tour
LOCATION:Sala Negrelli della Comunità di Primiero, Tonadico
DESCRIPTION:L’Associazione Lotus - Oltre il tumore al seno organizza un incontro per far conoscere la Breast Unit di Trento, centro multidisciplinare per la cura del tumore al seno.  Durante la serata verranno presentate le attività della Breast Unit e il supporto offerto ai pazienti e alle famiglie, anche grazie al volontariato.
STATUS:CONFIRMED
END:VEVENT
END:VCALENDAR