BEGIN:VCALENDAR
VERSION:2.0
PRODID:-//primiero.events//Grande Marcia della Pace//IT
CALSCALE:GREGORIAN
METHOD:PUBLISH
X-WR-TIMEZONE:UTC
X-WR-CALNAME:Grande Marcia della Pace
X-WR-CALDESC:Grande Marcia della Pace
X-WR-TIMEZONE:Europe/Rome
BEGIN:VEVENT
DTSTART;VALUE=DATE:20260516
DTEND;VALUE=DATE:20260516
DTSTAMP:20260422T160909Z
UID:@3660e3986a5550a4f2bbb850758b1d47@primiero.events
ORGANIZER;CN=ApT San Martino di Castrozza, Primiero e Vanoi:MAILTO:webmaster@primiero.events
SUMMARY:Grande Marcia della Pace
LOCATION:Via Nazionale, Imer
DESCRIPTION:Primiero per la Pace organizza la 3^ Marcia della Pace. Percorso: partenza alle ore 14.00 da Imèr in Via Nazionale, tappa a Mezzano, risalita lungo la ciclabile poi Centro di Fiera di Primiero, arrivo e festa ai Giardini Vallombrosa. Programma: concerto della Scuola Musicale di Primiero poi la festa continua con altra musica, cibo e bibite. Nevetta gratuita per il rientro da Vallombrosa a Imèr.
STATUS:CONFIRMED
END:VEVENT
END:VCALENDAR