BEGIN:VCALENDAR
VERSION:2.0
PRODID:-//primiero.events//Trentino Girofolk//IT
CALSCALE:GREGORIAN
METHOD:PUBLISH
X-WR-TIMEZONE:UTC
X-WR-CALNAME:Trentino Girofolk
X-WR-CALDESC:Trentino Girofolk
X-WR-TIMEZONE:Europe/Rome
BEGIN:VEVENT
DTSTART:T21:00:00
DTEND:T21:00:00
DTSTAMP:20260422T110400Z
UID:@3fa7105afacafd743388bdbd1569d4a1@primiero.events
ORGANIZER;CN=Comunità di Primiero:MAILTO:webmaster@primiero.events
SUMMARY:Trentino Girofolk
LOCATION:Tonadico, TN
DESCRIPTION:TRENTINO GIROFOLK
STATUS:CONFIRMED
END:VEVENT
END:VCALENDAR