BEGIN:VCALENDAR
VERSION:2.0
PRODID:-//primiero.events//local2social//IT
CALSCALE:GREGORIAN
METHOD:PUBLISH
X-WR-TIMEZONE:UTC
X-WR-CALNAME:local2social
X-WR-CALDESC:local2social
X-WR-TIMEZONE:Europe/Rome
BEGIN:VEVENT
DTSTART:20160620T09:00:00
DTEND:20160624T17:00:00
DTSTAMP:20260422T110747Z
UID:@9d443f7b85d1dec1b5f24ae2f5e87333@primiero.events
ORGANIZER;CN=Comunità di Primiero:MAILTO:webmaster@primiero.events
SUMMARY:local2social
LOCATION:Canal San Bovo, TN
DESCRIPTION:Dal 20 al 24 giugno 2016 si svolgerà a Canal San Bovo, presso la biblioteca della Casa dell'Ecomuseo, un corso in Social Media &amp; Digital Marketing riservato a giovani dai 17 ai 29 del territorio.Il progetto, inserito nel Piano Giovani &quot;Nuove connessioni&quot; della Comunità di Primiero, prevede, oltre alle sessioni formative, la possibilità di proporre e realizzare, vedendolo finanziato, un piccolo piano di marketing per le attività dell'Ass. Ecomuseo del Vanoi, che mette a disposizione i propri contenuti culturali e ambientali ed i propri canali e strumenti di comunicazione.Cinque docenti ed un coach di provata reputazione ed esperienza trasferiranno ai partecipanti informazioni e competenze utili a comprendere le opportunità professionali, anche locali, offerte dal settore della comunicazione turistica &quot;social&quot; e del marketing digitale.Tutti i dettagli del progetto e le informazioni per l'iscrizione, che deve essere inviata entro il 16.06.2016 all'Ecomuseo del Vanoi, sono disponibili qui.
STATUS:CONFIRMED
END:VEVENT
END:VCALENDAR