BEGIN:VCALENDAR
VERSION:2.0
PRODID:-//primiero.events//Campeggio a Passo Cereda//IT
CALSCALE:GREGORIAN
METHOD:PUBLISH
X-WR-TIMEZONE:UTC
X-WR-CALNAME:Campeggio a Passo Cereda
X-WR-CALDESC:Campeggio a Passo Cereda
X-WR-TIMEZONE:Europe/Rome
BEGIN:VEVENT
DTSTART;VALUE=DATE:20160626
DTEND;VALUE=DATE:20160701
DTSTAMP:20260422T235108Z
UID:@a0d1c9adcbf0d3597d6dae556d31fa0d@primiero.events
ORGANIZER;CN=Parrocchie di Primiero, Vanoi e Mis:MAILTO:webmaster@primiero.events
SUMMARY:Campeggio a Passo Cereda
LOCATION:Fiera di Primiero, TN
DESCRIPTION:Per i bambini dalla terza alla quinta elementare, dal giorno 26 giugno al 2 luglio in località Fratton.Quota di partecipazione 90€ (70€ dal secondo figlio in poi).Posti disponibili 40.
STATUS:CONFIRMED
END:VEVENT
END:VCALENDAR