BEGIN:VCALENDAR
VERSION:2.0
PRODID:-//primiero.events//Campeggio Chierichetti A Sagron//IT
CALSCALE:GREGORIAN
METHOD:PUBLISH
X-WR-TIMEZONE:UTC
X-WR-CALNAME:Campeggio Chierichetti A Sagron
X-WR-CALDESC:Campeggio Chierichetti A Sagron
X-WR-TIMEZONE:Europe/Rome
BEGIN:VEVENT
DTSTART;VALUE=DATE:20160711
DTEND;VALUE=DATE:20160715
DTSTAMP:20260422T235048Z
UID:@2f20ccdc42c85fddf06f59fa87831b73@primiero.events
ORGANIZER;CN=Parrocchie di Primiero, Vanoi e Mis:MAILTO:webmaster@primiero.events
SUMMARY:Campeggio Chierichetti A Sagron
LOCATION:Sagron Mis, TN
DESCRIPTION:Campeggio per i chierichetti a SagronDall'11 al 16 luglioPosti disponibili 40.&nbsp;
STATUS:CONFIRMED
END:VEVENT
END:VCALENDAR