BEGIN:VCALENDAR
VERSION:2.0
PRODID:-//primiero.events//Campeggio Al Mare In Toscana//IT
CALSCALE:GREGORIAN
METHOD:PUBLISH
X-WR-TIMEZONE:UTC
X-WR-CALNAME:Campeggio Al Mare In Toscana
X-WR-CALDESC:Campeggio Al Mare In Toscana
X-WR-TIMEZONE:Europe/Rome
BEGIN:VEVENT
DTSTART;VALUE=DATE:20160821
DTEND;VALUE=DATE:20160826
DTSTAMP:20260422T235440Z
UID:@3178a7a7142851744fd474494871178b@primiero.events
ORGANIZER;CN=Parrocchie di Primiero, Vanoi e Mis:MAILTO:webmaster@primiero.events
SUMMARY:Campeggio Al Mare In Toscana
LOCATION:Fiera di Primiero, TN
DESCRIPTION:Campeggio al mare rivolto ai ragazzi delle medie.Dal 21 al 27 agosto.Quota di partecipazione: 185€ (155 dal secondo figlio in poi)Posti disponibili 50
STATUS:CONFIRMED
END:VEVENT
END:VCALENDAR