BEGIN:VCALENDAR
VERSION:2.0
PRODID:-//primiero.events//1966 L’anno dell’alluvione. Giornale radio della storia//IT
CALSCALE:GREGORIAN
METHOD:PUBLISH
X-WR-TIMEZONE:UTC
X-WR-CALNAME:1966 L’anno dell’alluvione. Giornale radio della storia
X-WR-CALDESC:1966 L’anno dell’alluvione. Giornale radio della storia
X-WR-TIMEZONE:Europe/Rome
BEGIN:VEVENT
DTSTART;VALUE=DATE:
DTEND;VALUE=DATE:
DTSTAMP:20260422T112015Z
UID:@96680b81d7f4fbdc04464f969f2c2823@primiero.events
ORGANIZER;CN=Comunità di Primiero:MAILTO:webmaster@primiero.events
SUMMARY:1966 L’anno dell’alluvione. Giornale radio della storia
LOCATION:Canal San Bovo, TN
DESCRIPTION:Giornale radio della storia con Alberto Folgheraiter e I Musici Cantori di Trento.Teatro parrocchiale di Canal San Bovo domenica 30 ottobre ore 20.30

STATUS:CONFIRMED
END:VEVENT
END:VCALENDAR