BEGIN:VCALENDAR
VERSION:2.0
PRODID:-//primiero.events//L’alluvione in parole e musica//IT
CALSCALE:GREGORIAN
METHOD:PUBLISH
X-WR-TIMEZONE:UTC
X-WR-CALNAME:L’alluvione in parole e musica
X-WR-CALDESC:L’alluvione in parole e musica
X-WR-TIMEZONE:Europe/Rome
BEGIN:VEVENT
DTSTART;VALUE=DATE:
DTEND;VALUE=DATE:
DTSTAMP:20260422T111842Z
UID:@588b9944b443f8e387601c28a7911e36@primiero.events
ORGANIZER;CN=Comunità di Primiero:MAILTO:webmaster@primiero.events
SUMMARY:L’alluvione in parole e musica
LOCATION:Mezzano, TN
DESCRIPTION:L’alluvione in parole e musicacon Erwin Filippi Gilli&nbsp;e MixtecaOre 20:30 - Centro Civico di Mezzano
STATUS:CONFIRMED
END:VEVENT
END:VCALENDAR