BEGIN:VCALENDAR
VERSION:2.0
PRODID:-//primiero.events//Primiero 1966//IT
CALSCALE:GREGORIAN
METHOD:PUBLISH
X-WR-TIMEZONE:UTC
X-WR-CALNAME:Primiero 1966
X-WR-CALDESC:Primiero 1966
X-WR-TIMEZONE:Europe/Rome
BEGIN:VEVENT
DTSTART;VALUE=DATE:
DTEND;VALUE=DATE:
DTSTAMP:20260422T110844Z
UID:@ee1bfc1aeb1e6187e2c7b11ce8734f5f@primiero.events
ORGANIZER;CN=Comunità di Primiero:MAILTO:webmaster@primiero.events
SUMMARY:Primiero 1966
LOCATION:Fiera di Primiero, TN
DESCRIPTION:Ore 9:30 - Fiera di Primiero, Via TerrabugioIncontro con l’Unità di soccorso della Protezione CivileMezzi, attrezzature, interventi e abilità allievi Vigili del FuocoOre 14:30 - Transacqua, Auditorium intercomunaleCerimonia commemorativaSaluti delle autorità e testimonianze dei soccorritoriore 15:00Convegno a cura del Parco Naturale Paneveggio Pale di San MartinoPrimiero 1966-2016. La trasformazione di un territorio di montagnaore 17:00Solidarietà di ieri e di oggi
STATUS:CONFIRMED
END:VEVENT
END:VCALENDAR