BEGIN:VCALENDAR
VERSION:2.0
PRODID:-//primiero.events//Piovve, senti come piovve, guarda come venne giù//IT
CALSCALE:GREGORIAN
METHOD:PUBLISH
X-WR-TIMEZONE:UTC
X-WR-CALNAME:Piovve, senti come piovve, guarda come venne giù
X-WR-CALDESC:Piovve, senti come piovve, guarda come venne giù
X-WR-TIMEZONE:Europe/Rome
BEGIN:VEVENT
DTSTART;VALUE=DATE:
DTEND;VALUE=DATE:
DTSTAMP:20260421T173029Z
UID:@caaec407f66237d7f58ab0ecbbd3dd13@primiero.events
ORGANIZER;CN=Comune di Imer:MAILTO:webmaster@primiero.events
SUMMARY:Piovve, senti come piovve, guarda come venne giù
LOCATION:Imer, TN
DESCRIPTION:Incontro con Erwin Filippi Gilli, Antonio Loss e i testimoni dell'alluvione di ImèrImèr, Le Sieghe, ore 20:30
STATUS:CONFIRMED
END:VEVENT
END:VCALENDAR