BEGIN:VCALENDAR
VERSION:2.0
PRODID:-//primiero.events//Autunno nell'orto//IT
CALSCALE:GREGORIAN
METHOD:PUBLISH
X-WR-TIMEZONE:UTC
X-WR-CALNAME:Autunno nell'orto
X-WR-CALDESC:Autunno nell'orto
X-WR-TIMEZONE:Europe/Rome
BEGIN:VEVENT
DTSTART;VALUE=DATE:
DTEND;VALUE=DATE:
DTSTAMP:20260421T173641Z
UID:@2fe3f0d9c7ce90b925e93c643551a984@primiero.events
ORGANIZER;CN=Comune di Imer:MAILTO:webmaster@primiero.events
SUMMARY:Autunno nell'orto
LOCATION:Imer, TN
DESCRIPTION:Il 4 novembre alle 20:30 presso le ex sieghe di Imèr si parlerà dell'orto in autunno, o meglio del suolo in autunno, come aiutarlo con i microrganismi dopo la stagione produttiva e come preparare il suolo all'arrivo dell'inverno... per quella che sarà la tanto attesa primavera...La serata sarà tenuta da Fausto Nicolussi&nbsp;che per l'occasione porterà anche prodotti di microrganismi (per ordinarli potete chiamarlo al num. +39.349.5587577)
STATUS:CONFIRMED
END:VEVENT
END:VCALENDAR