BEGIN:VCALENDAR
VERSION:2.0
PRODID:-//primiero.events//Le culture di montagna//IT
CALSCALE:GREGORIAN
METHOD:PUBLISH
X-WR-TIMEZONE:UTC
X-WR-CALNAME:Le culture di montagna
X-WR-CALDESC:Le culture di montagna
X-WR-TIMEZONE:Europe/Rome
BEGIN:VEVENT
DTSTART;VALUE=DATE:
DTEND;VALUE=DATE:
DTSTAMP:20260421T171948Z
UID:@9765923a15337167d7533d9d903bbd2a@primiero.events
ORGANIZER;CN=Comune di Imer:MAILTO:webmaster@primiero.events
SUMMARY:Le culture di montagna
LOCATION:Sieghe di Imer, Imer
DESCRIPTION:Da qualche mese,  un gruppo di lavoro molto competente, curioso ed appassionato, sta studiando e discutendo rispetto ai rapporti tra città-valli, montagne-pianure per capire i termini attuali di queste antiche dicotomie, e per conoscere quali siano oggi le vie attraverso le quali le persone, le associazioni, le amministrazioni, “i territori” si organizzano per mitigare le possibili ragioni di attrito e per sviluppare le possibili occasioni di crescita.È un progetto molto appassionante che è stato battezzato “Ci-Và” giocando sulla crasi dei termini “città” – “valli” e originando un'espressione d'interesse che italianizza il più diffuso “Like”. Per raccontare tutto ciò, c'è stata una prima uscita pubblica a Cavalese, in aprile, e un'altra a Tione, in giugno.Il terzo incontro è previsto a Imèr, in Primiero, l'11 novembre 2016, sul tema:Le culture di montagna, tra conservazione e innovazioneNe discutono:  Patricia Lamoroux, Vittorio Ducoli, Anna Benedetti e Daniele GubertModera: Donata Borgonovo ReIntroduce: Giacobbe ZorteaPresso Le Sieghe, ore 20:30.Rif. Progetto CiVà
STATUS:CONFIRMED
END:VEVENT
END:VCALENDAR