BEGIN:VCALENDAR
VERSION:2.0
PRODID:-//primiero.events//Scienziati Squilibrati//IT
CALSCALE:GREGORIAN
METHOD:PUBLISH
X-WR-TIMEZONE:UTC
X-WR-CALNAME:Scienziati Squilibrati
X-WR-CALDESC:Scienziati Squilibrati
X-WR-TIMEZONE:Europe/Rome
BEGIN:VEVENT
DTSTART:T17:30:00
DTEND:T19:00:00
DTSTAMP:20260422T132351Z
UID:@dfe29f8279bc26d0f2e73d2ece97e470@primiero.events
ORGANIZER;CN=Gruppo Giovani Imer:MAILTO:webmaster@primiero.events
SUMMARY:Scienziati Squilibrati
LOCATION:Fiera di Primiero, TN
DESCRIPTION:L’immagine che si ha degli scienziati è solitamente quella di persone serie. Accade però che, sfogliando una rivista scientifica, ci si imbatta in pubblicazioni quali “Lo spennamento di un pollo come misura della velocità di un tornado”. Il primo effetto è una fragorosa risata. Quando però ci domandiamo chi sia stato a eseguire lo studio e cerchiamo gli autori, rimaniamo basiti: non è insolito siano ricercatori di un certo peso, con alle spalle premi e riconoscimenti di livello internazionale se non – addirittura – un premio Nobel. Cos’è successo a queste menti brillanti? Hanno forse perso l’equilibrio mentale? Questo non possiamo saperlo e in fondo l’immagine dello scienziato pazzo esisterà per un motivo. Sappiamo però che esiste un premio. Un riconoscimento annuale raccoglie infatti le dieci ricerche più squilibrate al mondo, realizzate dai ricercatori delle più disparate discipline scientifiche: il premio Ig Nobel. Ma tali studi sono davvero inutili oppure nascondono insegnamenti pronti a stupirci? E perché il motto dei premi Ig Nobel è “Ricerche che prima fanno ridere la gente e poi la fanno riflettere”?
STATUS:CONFIRMED
END:VEVENT
END:VCALENDAR