BEGIN:VCALENDAR
VERSION:2.0
PRODID:-//primiero.events//Pop Economix Live Show!//IT
CALSCALE:GREGORIAN
METHOD:PUBLISH
X-WR-TIMEZONE:UTC
X-WR-CALNAME:Pop Economix Live Show!
X-WR-CALDESC:Pop Economix Live Show!
X-WR-TIMEZONE:Europe/Rome
BEGIN:VEVENT
DTSTART:T20:30:00
DTEND:T22:00:00
DTSTAMP:20260422T094955Z
UID:@e07908ffe9693453395420fc45a5c7c2@primiero.events
ORGANIZER;CN=Gruppo Giovani Imer:MAILTO:webmaster@primiero.events
SUMMARY:Pop Economix Live Show!
LOCATION:Imer, TN
DESCRIPTION:Come nasce la crisi economica globale? Come funzionano le bolle finanziarie? Come la crisi dagli Stati Uniti è arrivata in Europa? L’austerity ci fa bene? Chi sono i responsabili? E noi, siamo solo vittime innocenti? Pop Economix Live Show è uno spettacolo che racconta la crisi globale che ci ha investito: lo fa in modo semplice, divertente e puntuale attraverso gli occhi di un narratore. Una narrazione teatrale di impegno civile, comica e drammatica insieme.L'intero progetto Pop Economix è frutto di un'idea un po' folle: raccontare la crisi economica globale esplosa dopo il&nbsp;fallimento di Lehman Brothers nel 2008 usando il teatro. Era il 2011, nasceva allora&nbsp;Pop Economy, conferenza teatrale "per non esperti", scritta da Nadia Lambiase e Alberto Pagliarino che la portava anche in scena. Due anni dopo quello spettacolo è divenuto&nbsp;Pop Economix Live Show, testo teatrale di&nbsp;Nadia Lambiase,&nbsp;Alberto Pagliarino&nbsp;e&nbsp;Paolo Piacenza&nbsp;che da allora ha attraversato tutta Italia (e anche alcuni angoli di Europa), oltrepassando nel 2015 le 300 repliche in oltre&nbsp;180 città e paesi. A portarlo in scena è ancora&nbsp;Alberto Pagliarino, ma anche&nbsp;Fabrizio Stasia, con la supervisione artistica di&nbsp;Alessandra Rossi Ghiglione.Pop Economix è quindi, innanzitutto,&nbsp;teatro civile di informazione. Teatro come spazio espressivo che restituisce, attraverso l'arte, la&nbsp;capacità di leggere la realtà. Teatro che sa confrontarsi con il&nbsp;rigore della documentazione, che nasce da un attento lavoro di verifica e confronto delle fonti per ricostruire, oltre la cronaca, la storia nella quale siamo immersi. Teatro che riesce a&nbsp;coinvolgere la mente e il cuore delle persone, che evoca paure e fatiche, ma anche indignazione e speranze,&nbsp;voglia&nbsp;di reagire e di cercare nuove strade per un'economia più rispettosa dell'uomo e del pianeta.Ormai la strada percorsa è davvero tanta e Pop Economix guarda avanti.&nbsp;Nel 2015 abbiamo curato la sezione centrale della XXII edizione di&nbsp;ISAO Festival,&nbsp;Percorsi tra Economia e Felicità, in partnership con&nbsp;Il Mutamento Zona Castaliache dal 1992 organizza&nbsp;questo importante evento&nbsp;a Torino. Abbiamo contatti con diverse realtà, festival italiani e stranieri per costruire progetti comuni. E nel corso del 2016 sarà&nbsp;lanciato un nuovo grande spettacolo,&nbsp;dedicato all'economia civile&nbsp;e alla cura dell'ambiente.
STATUS:CONFIRMED
END:VEVENT
END:VCALENDAR