BEGIN:VCALENDAR
VERSION:2.0
PRODID:-//primiero.events//Concerto di Natale a Imèr//IT
CALSCALE:GREGORIAN
METHOD:PUBLISH
X-WR-TIMEZONE:UTC
X-WR-CALNAME:Concerto di Natale a Imèr
X-WR-CALDESC:Concerto di Natale a Imèr
X-WR-TIMEZONE:Europe/Rome
BEGIN:VEVENT
DTSTART;VALUE=DATE:
DTEND;VALUE=DATE:
DTSTAMP:20260421T171835Z
UID:@e84ea24082e3a91925d22e4b3c721142@primiero.events
ORGANIZER;CN=Comune di Imer:MAILTO:webmaster@primiero.events
SUMMARY:Concerto di Natale a Imèr
LOCATION:Chiesa Parrocchiale dei SS. Pietro e Paolo, Imèr
DESCRIPTION:Concerto di Natale con il coro misto giovanile Valsugana Singers della Civica Scuola di Musica di Borgo, Levico e Caldonazzo, diretto dal maestro GIANCARLO COMAR.Il programma sarà diviso in due parti, la prima con musiche 
polifoniche a cappella e la seconda interamente natalizia con il 
pianoforte di MARCO RINAUDO.
STATUS:CONFIRMED
END:VEVENT
END:VCALENDAR