BEGIN:VCALENDAR
VERSION:2.0
PRODID:-//primiero.events//Mattinata FAI a Imèr//IT
CALSCALE:GREGORIAN
METHOD:PUBLISH
X-WR-TIMEZONE:UTC
X-WR-CALNAME:Mattinata FAI a Imèr
X-WR-CALDESC:Mattinata FAI a Imèr
X-WR-TIMEZONE:Europe/Rome
BEGIN:VEVENT
DTSTART:T08:00:00
DTEND:T12:30:00
DTSTAMP:20260421T174643Z
UID:@20fa361bdbd6238cc1696407ef683a83@primiero.events
ORGANIZER;CN=Comune di Imer:MAILTO:webmaster@primiero.events
SUMMARY:Mattinata FAI a Imèr
LOCATION:Piazza della Chiesa, Imer, TN
DESCRIPTION:A Primiero gli studenti dell'Istituto superiore&nbsp;guideranno le classi che s'iscriveranno ed i cittadini che si vorranno aggregare alla visita di scoperta della Chiesa di Imèr e dei dipinti murali del centro storico.La Chiesa parrocchiale di Imèr, intitolata ai santi Pietro e Paolo, fu citata negli statuti concessi alla popolazione di Primiero nel 1367 e venne ampliata nel corso del Settecento, abbellita con un grande affresco esterno dedicato a San Cristoforo, protettore dei viandanti e con altri dipinti sulla volta dell’aula.&nbsp;All'interno gli altari di legno custodiscono delle pale d’altare settecentesche. Il percorso dedicato alla scoperta dei dipinti murali popolari realizzati sulle facciate delle abitazioni del centro storico di Imèr consente di apprezzare numerosi esempi di arte del Seicento e del Settecento, frutto della devozione popolare dei paesani.Il prossimo 2 dicembre 2016 dalle 8.00 alle 12.30 i&nbsp;giovani Apprendisti Ciceroni, indossati i panni di narratori d'eccezione, sono pronti a raccontare il valore di questi luoghi e le storie che custodiscono.Rif. www.mattinatefai.it&nbsp;| a&nbsp;Imèr di Primiero
STATUS:CONFIRMED
END:VEVENT
END:VCALENDAR