BEGIN:VCALENDAR
VERSION:2.0
PRODID:-//primiero.events//Gran Tombola di Natale//IT
CALSCALE:GREGORIAN
METHOD:PUBLISH
X-WR-TIMEZONE:UTC
X-WR-CALNAME:Gran Tombola di Natale
X-WR-CALDESC:Gran Tombola di Natale
X-WR-TIMEZONE:Europe/Rome
BEGIN:VEVENT
DTSTART:T20:15:00
DTEND:T23:00:00
DTSTAMP:20260420T164939Z
UID:@0496f83a82d463408b8a4a13644747ca@primiero.events
ORGANIZER;CN=Consorzio Turistico Valle del Vanoi:MAILTO:webmaster@primiero.events
SUMMARY:Gran Tombola di Natale
LOCATION:
DESCRIPTION:IL COMITATO GESTIONE ORATORIO&nbsp; DI CANAL SAN BOVO



ORGANIZZA&nbsp;&nbsp;&nbsp;&nbsp; MARTEDI'&nbsp; 26&nbsp; DICEMBRE&nbsp; ORE 20.15



PRESSO IL TEATRO PARROCCHIALE DI CANAL SAN BOVO



GRAN TOMBOLA DI NATALE



Con ricchi premi per tutti
STATUS:CONFIRMED
END:VEVENT
END:VCALENDAR