BEGIN:VCALENDAR
VERSION:2.0
PRODID:-//primiero.events//Serata in musica a sostegno delle famiglie bisognose//IT
CALSCALE:GREGORIAN
METHOD:PUBLISH
X-WR-TIMEZONE:UTC
X-WR-CALNAME:Serata in musica a sostegno delle famiglie bisognose
X-WR-CALDESC:Serata in musica a sostegno delle famiglie bisognose
X-WR-TIMEZONE:Europe/Rome
BEGIN:VEVENT
DTSTART:T20:45:00
DTEND:T22:00:00
DTSTAMP:20260422T235211Z
UID:@04adcfe2985e5f24e16022f297116530@primiero.events
ORGANIZER;CN=Parrocchie di Primiero, Vanoi e Mis:MAILTO:webmaster@primiero.events
SUMMARY:Serata in musica a sostegno delle famiglie bisognose
LOCATION:Chiesa arcipretale, Fiera di Primiero
DESCRIPTION:Serata in musica con i cori parrocchiali di Fiera di Primiero, Mezzano, Siror e Tonadico e la partecipazione dell'Ensemble femminile della scuola musicale
STATUS:CONFIRMED
END:VEVENT
END:VCALENDAR