BEGIN:VCALENDAR
VERSION:2.0
PRODID:-//primiero.events//Primiero e lo spartiacque del ‘66: un territorio prima, durante e dopo l’alluvione//IT
CALSCALE:GREGORIAN
METHOD:PUBLISH
X-WR-TIMEZONE:UTC
X-WR-CALNAME:Primiero e lo spartiacque del ‘66: un territorio prima, durante e dopo l’alluvione
X-WR-CALDESC:Primiero e lo spartiacque del ‘66: un territorio prima, durante e dopo l’alluvione
X-WR-TIMEZONE:Europe/Rome
BEGIN:VEVENT
DTSTART:20170117T10:00:00
DTEND:20170212T18:30:00
DTSTAMP:20260422T111842Z
UID:@f12038ca7c8852c009fb6e9741420c63@primiero.events
ORGANIZER;CN=Comunità di Primiero:MAILTO:webmaster@primiero.events
SUMMARY:Primiero e lo spartiacque del ‘66: un territorio prima, durante e dopo l’alluvione
LOCATION:centro civico, Mezzano
DESCRIPTION:La mostra descrive il prima, il durante e il dopo l'alluvione; racconta attraverso ricordi ed immagini la repentina trasformazione del territorio, del paesaggio e della gente di Primiero. Com'era la vita prima del 1966? E poi com'è diventata? E... in futuro come sarà... ?
STATUS:CONFIRMED
END:VEVENT
END:VCALENDAR