BEGIN:VCALENDAR
VERSION:2.0
PRODID:-//primiero.events//Meet your landscape//IT
CALSCALE:GREGORIAN
METHOD:PUBLISH
X-WR-TIMEZONE:UTC
X-WR-CALNAME:Meet your landscape
X-WR-CALDESC:Meet your landscape
X-WR-TIMEZONE:Europe/Rome
BEGIN:VEVENT
DTSTART:20170104T08:00:00
DTEND:20170129T23:00:00
DTSTAMP:20260422T110401Z
UID:@1024a9fea5e7111751b3edcf12805b3a@primiero.events
ORGANIZER;CN=Comunità di Primiero:MAILTO:webmaster@primiero.events
SUMMARY:Meet your landscape
LOCATION:Brolo di Mezzano, Mezzano
DESCRIPTION:Workshop di fotografia partecipata e trekking nelle Dolomiti Unesco
Mostra itinerante per far conoscere a tutti il valore del Patrimonio dell'Umanità Dolomiti - Bene Unescodal 4 al 29 gennaio – Brolo di MezzanoEsposizione delle fotografie dei partecipanti iscritti alle varie edizioni stagionali del progetto MYL, combinazione di narrazione e fotografia con la tecnica del photovoice per dare voce alla tua idea di paesaggio, tenutosi nella diverse Comunità di Valle del Trentino
STATUS:CONFIRMED
END:VEVENT
END:VCALENDAR