BEGIN:VCALENDAR
VERSION:2.0
PRODID:-//primiero.events//Donne pericolose//IT
CALSCALE:GREGORIAN
METHOD:PUBLISH
X-WR-TIMEZONE:UTC
X-WR-CALNAME:Donne pericolose
X-WR-CALDESC:Donne pericolose
X-WR-TIMEZONE:Europe/Rome
BEGIN:VEVENT
DTSTART:T20:30:00
DTEND:T22:00:00
DTSTAMP:20260421T225048Z
UID:@d73c900a7aab985a6a186a5c1a2f3065@primiero.events
ORGANIZER;CN=Associazione Culturale La Bottega dell'Arte:MAILTO:webmaster@primiero.events
SUMMARY:Donne pericolose
LOCATION:Palazzo delle Miniere, Fiera di Primiero
DESCRIPTION:Giornalista e scrittrice,
conduttrice televisiva e
radiofonica italiana
"Donne pericolose"
presenta Sandro
Dalla Gasperina
libraio in Feltre,
libreria Agorà EditriceCinzia TaniHa  esordito  come  scrittrice  nel  1987,  con  la  pubblicazione  del  suo primo libro Sognando Califor-nia  col  quale  si  è  aggiudicata  il  Premio Scanno. Nello stesso anno è divenuta collaboratrice della Rai  come inviata del programma Mi-xer, condotto da Giovanni Minoli. Dal  1991  è  stata  autrice  e  conduttrice  di  programmi  televisivi, tra cui Chi è di scena, L’occhio sul cinema, “Il caffè”. Nel 1997 è stata conduttrice e autrice, insieme a Giordano Bruno Guerri di Italia mia benché. Dal 2008 è autrice del fumetto Unità Speciale, per i tipi dell’Eura Editoriale.Ha  alternato  la  conduzione  di  programmi  televisivi  e  radiofonici, come Rewind - Visioni private e Fantastica-mente (in onda su RadioRai), alla scrittura e alla divul-gazione. Ha collaborato alla stesura di molte puntate del programma televisivo Delitti, documentario su epi-sodi  di  cronaca  nera  accaduti  in  Italia  dal  secondo  dopoguerra in poi. Nel  2004 è stata nominata Cava-liere su iniziativa del presidente della Repubblica Carlo Azelio Ciampi.Autrice di una trentina di romanzi, tra gli ultimi pubbli-cati: La Mela (Gallucci, 2010), Charleston (Mondadori, 2010), Io sono un’assassina (Mondadori, 2011), Stringi-mi (Piemme, 2011), Il bacio della Dionea (Mondadori, 2012), Mia per sempre (Mondadori, 2013), La storia di To-nia (Mondadori, 2014), Donne pericolose (Rizzoli, 2015).
STATUS:CONFIRMED
END:VEVENT
END:VCALENDAR