BEGIN:VCALENDAR
VERSION:2.0
PRODID:-//primiero.events//#ProgettoPrimiero//IT
CALSCALE:GREGORIAN
METHOD:PUBLISH
X-WR-TIMEZONE:UTC
X-WR-CALNAME:#ProgettoPrimiero
X-WR-CALDESC:#ProgettoPrimiero
X-WR-TIMEZONE:Europe/Rome
BEGIN:VEVENT
DTSTART:T18:00:00
DTEND:T19:00:00
DTSTAMP:20260422T110850Z
UID:@e5c46774850faffe66aec5e77a57e14b@primiero.events
ORGANIZER;CN=Comunità di Primiero:MAILTO:webmaster@primiero.events
SUMMARY:#ProgettoPrimiero
LOCATION:Aula magna Enaip, Transacqua (TN)
DESCRIPTION:Creiamo insieme il futuro della Comunità. Laboratorio di ideazione e progettazione strategica partecipata.All'incontro, sarà presente l'assessore provinciale alla coesione territoriale, urbanistica, enti locali ed edilizia abitativa, Carlo Daldoss con un referente dell'Autorità della Partecipazione Locale.
STATUS:CONFIRMED
END:VEVENT
END:VCALENDAR