BEGIN:VCALENDAR
VERSION:2.0
PRODID:-//primiero.events//La figura della Beata Serafina//IT
CALSCALE:GREGORIAN
METHOD:PUBLISH
X-WR-TIMEZONE:UTC
X-WR-CALNAME:La figura della Beata Serafina
X-WR-CALDESC:La figura della Beata Serafina
X-WR-TIMEZONE:Europe/Rome
BEGIN:VEVENT
DTSTART:T20:30:00
DTEND:T22:00:00
DTSTAMP:20260422T235307Z
UID:@68bebac009f45edc83b890df346b213a@primiero.events
ORGANIZER;CN=Parrocchie di Primiero, Vanoi e Mis:MAILTO:webmaster@primiero.events
SUMMARY:La figura della Beata Serafina
LOCATION:Ex Sieghe di Imèr, Imer
DESCRIPTION:La figura della Beata Serafina  e gli eventi più significativi dell'anno SerafinianoLa serata sarà animata dai ragazzi delle scuole superiori e accompagnata dal Coro Vanoi.
STATUS:CONFIRMED
END:VEVENT
END:VCALENDAR